BEGIN:VCALENDAR
PRODID:-//eluceo/ical//2.0/EN
VERSION:2.0
CALSCALE:GREGORIAN
BEGIN:VEVENT
UID:444a696ac8cf9e36115760573659b01d
DTSTAMP:20260421T085838Z
SUMMARY:Poberta
DTSTART;TZID=Europe/Prague:20260310T173000
DTEND;TZID=Europe/Prague:20260310T192800
LOCATION:Bio Central
END:VEVENT
END:VCALENDAR
BEGIN:VCALENDAR
PRODID:-//eluceo/ical//2.0/EN
VERSION:2.0
CALSCALE:GREGORIAN
BEGIN:VEVENT
UID:823093f3fcf9d35d77d17ce621d63124
DTSTAMP:20260421T085838Z
SUMMARY:Poberta
DTSTART;TZID=Europe/Prague:20260310T173000
DTEND;TZID=Europe/Prague:20260310T192800
LOCATION:Bio Central
END:VEVENT
END:VCALENDAR
