BEGIN:VCALENDAR
PRODID:-//eluceo/ical//2.0/EN
VERSION:2.0
CALSCALE:GREGORIAN
BEGIN:VEVENT
UID:a216ce003e6d0eedba3eae6932365968
DTSTAMP:20260421T090152Z
SUMMARY:Poberta
DTSTART;TZID=Europe/Prague:20260308T203000
DTEND;TZID=Europe/Prague:20260308T222800
LOCATION:Kino Světozor
END:VEVENT
END:VCALENDAR
BEGIN:VCALENDAR
PRODID:-//eluceo/ical//2.0/EN
VERSION:2.0
CALSCALE:GREGORIAN
BEGIN:VEVENT
UID:a48facb9f031cc45d688a1e1ebe801ba
DTSTAMP:20260421T090152Z
SUMMARY:Poberta
DTSTART;TZID=Europe/Prague:20260308T203000
DTEND;TZID=Europe/Prague:20260308T222800
LOCATION:Kino Světozor
END:VEVENT
END:VCALENDAR
