BEGIN:VCALENDAR
PRODID:-//eluceo/ical//2.0/EN
VERSION:2.0
CALSCALE:GREGORIAN
BEGIN:VEVENT
UID:b40308d3e5aebac830d7d2727ac5f142
DTSTAMP:20260421T084355Z
SUMMARY:Poberta
DTSTART;TZID=Europe/Prague:20260308T174500
DTEND;TZID=Europe/Prague:20260308T194300
LOCATION:Kino Lucerna
END:VEVENT
END:VCALENDAR
BEGIN:VCALENDAR
PRODID:-//eluceo/ical//2.0/EN
VERSION:2.0
CALSCALE:GREGORIAN
BEGIN:VEVENT
UID:1582ba5a93b4fb1b445a7425d444b9cd
DTSTAMP:20260421T084355Z
SUMMARY:Poberta
DTSTART;TZID=Europe/Prague:20260308T174500
DTEND;TZID=Europe/Prague:20260308T194300
LOCATION:Kino Lucerna
END:VEVENT
END:VCALENDAR
