BEGIN:VCALENDAR
PRODID:-//eluceo/ical//2.0/EN
VERSION:2.0
CALSCALE:GREGORIAN
BEGIN:VEVENT
UID:0ff72c7b7ef386f55a346334438b1673
DTSTAMP:20260421T083812Z
SUMMARY:Poberta
DTSTART;TZID=Europe/Prague:20260318T180000
DTEND;TZID=Europe/Prague:20260318T195800
LOCATION:Kino Aero
END:VEVENT
END:VCALENDAR
BEGIN:VCALENDAR
PRODID:-//eluceo/ical//2.0/EN
VERSION:2.0
CALSCALE:GREGORIAN
BEGIN:VEVENT
UID:8ef2d3db8481e1ff005438dd63c8a146
DTSTAMP:20260421T083812Z
SUMMARY:Poberta
DTSTART;TZID=Europe/Prague:20260318T180000
DTEND;TZID=Europe/Prague:20260318T195800
LOCATION:Kino Aero
END:VEVENT
END:VCALENDAR
