BEGIN:VCALENDAR
PRODID:-//eluceo/ical//2.0/EN
VERSION:2.0
CALSCALE:GREGORIAN
BEGIN:VEVENT
UID:7195bacb3f4a130297112d48f1e46ed3
DTSTAMP:20260421T085909Z
SUMMARY:Poberta
DTSTART;TZID=Europe/Prague:20260314T173000
DTEND;TZID=Europe/Prague:20260314T192800
LOCATION:Bio Central
END:VEVENT
END:VCALENDAR
BEGIN:VCALENDAR
PRODID:-//eluceo/ical//2.0/EN
VERSION:2.0
CALSCALE:GREGORIAN
BEGIN:VEVENT
UID:2980764c3a2fc48de4fa6c78066c3856
DTSTAMP:20260421T085909Z
SUMMARY:Poberta
DTSTART;TZID=Europe/Prague:20260314T173000
DTEND;TZID=Europe/Prague:20260314T192800
LOCATION:Bio Central
END:VEVENT
END:VCALENDAR
