BEGIN:VCALENDAR
PRODID:-//eluceo/ical//2.0/EN
VERSION:2.0
CALSCALE:GREGORIAN
BEGIN:VEVENT
UID:cd7a59130fba6d5159d07afc0bfa45f4
DTSTAMP:20260419T130625Z
SUMMARY:Někdo to rád v Plzni
DTSTART;TZID=Europe/Prague:20260504T150000
DTEND;TZID=Europe/Prague:20260504T164000
LOCATION:Kino Lucerna
END:VEVENT
END:VCALENDAR
BEGIN:VCALENDAR
PRODID:-//eluceo/ical//2.0/EN
VERSION:2.0
CALSCALE:GREGORIAN
BEGIN:VEVENT
UID:2cf9d76c07abcefe2dfed48311dd8527
DTSTAMP:20260419T130625Z
SUMMARY:Někdo to rád v Plzni
DTSTART;TZID=Europe/Prague:20260504T150000
DTEND;TZID=Europe/Prague:20260504T164000
LOCATION:Kino Lucerna
END:VEVENT
END:VCALENDAR
