BEGIN:VCALENDAR
PRODID:-//eluceo/ical//2.0/EN
VERSION:2.0
CALSCALE:GREGORIAN
BEGIN:VEVENT
UID:61449d57b6b25f423f2e75562279a605
DTSTAMP:20260421T164125Z
SUMMARY:Kill Bill: The Whole Bloody Affair
DTSTART;TZID=Europe/Prague:20260425T181000
DTEND;TZID=Europe/Prague:20260425T224500
LOCATION:Bio Oko
END:VEVENT
END:VCALENDAR
BEGIN:VCALENDAR
PRODID:-//eluceo/ical//2.0/EN
VERSION:2.0
CALSCALE:GREGORIAN
BEGIN:VEVENT
UID:547716e700dc2a374ef739f8ca0775d0
DTSTAMP:20260421T164125Z
SUMMARY:Kill Bill: The Whole Bloody Affair
DTSTART;TZID=Europe/Prague:20260425T181000
DTEND;TZID=Europe/Prague:20260425T224500
LOCATION:Bio Oko
END:VEVENT
END:VCALENDAR
