BEGIN:VCALENDAR
PRODID:-//eluceo/ical//2.0/EN
VERSION:2.0
CALSCALE:GREGORIAN
BEGIN:VEVENT
UID:2092703188704c81166aecbc375b2140
DTSTAMP:20260425T195343Z
SUMMARY:Chungking Express
DTSTART;TZID=Europe/Prague:20260529T150000
DTEND;TZID=Europe/Prague:20260529T164200
LOCATION:Kino Aero
END:VEVENT
END:VCALENDAR
BEGIN:VCALENDAR
PRODID:-//eluceo/ical//2.0/EN
VERSION:2.0
CALSCALE:GREGORIAN
BEGIN:VEVENT
UID:3ebca8963369cac4181a29f250f71c05
DTSTAMP:20260425T195343Z
SUMMARY:Chungking Express
DTSTART;TZID=Europe/Prague:20260529T150000
DTEND;TZID=Europe/Prague:20260529T164200
LOCATION:Kino Aero
END:VEVENT
END:VCALENDAR
