BEGIN:VCALENDAR
PRODID:-//eluceo/ical//2.0/EN
VERSION:2.0
CALSCALE:GREGORIAN
BEGIN:VEVENT
UID:2239503c154eb3bb7e13d49b6c41df84
DTSTAMP:20260420T141405Z
SUMMARY:Billie Eilish - Hit Me Hard and Soft: The Tour
DTSTART;TZID=Europe/Prague:20260507T201500
DTEND;TZID=Europe/Prague:20260507T220900
LOCATION:Kino Světozor
END:VEVENT
END:VCALENDAR
BEGIN:VCALENDAR
PRODID:-//eluceo/ical//2.0/EN
VERSION:2.0
CALSCALE:GREGORIAN
BEGIN:VEVENT
UID:423339ca9d0769e7bab5c187f10f2948
DTSTAMP:20260420T141405Z
SUMMARY:Billie Eilish - Hit Me Hard and Soft: The Tour
DTSTART;TZID=Europe/Prague:20260507T201500
DTEND;TZID=Europe/Prague:20260507T220900
LOCATION:Kino Světozor
END:VEVENT
END:VCALENDAR
