BEGIN:VCALENDAR
PRODID:-//eluceo/ical//2.0/EN
VERSION:2.0
CALSCALE:GREGORIAN
BEGIN:VEVENT
UID:814029d931cb0812beb0b7a2cdb44b98
DTSTAMP:20260425T195042Z
SUMMARY:Chungking Express
DTSTART;TZID=Europe/Prague:20260501T200000
DTEND;TZID=Europe/Prague:20260501T214200
LOCATION:Kino Aero
END:VEVENT
END:VCALENDAR
BEGIN:VCALENDAR
PRODID:-//eluceo/ical//2.0/EN
VERSION:2.0
CALSCALE:GREGORIAN
BEGIN:VEVENT
UID:44db321bc372fb2799bbf1f2f38f7224
DTSTAMP:20260425T195042Z
SUMMARY:Chungking Express
DTSTART;TZID=Europe/Prague:20260501T200000
DTEND;TZID=Europe/Prague:20260501T214200
LOCATION:Kino Aero
END:VEVENT
END:VCALENDAR
