BEGIN:VCALENDAR
PRODID:-//eluceo/ical//2.0/EN
VERSION:2.0
CALSCALE:GREGORIAN
BEGIN:VEVENT
UID:58035fd6858e8d104bdb8712a37c890d
DTSTAMP:20260421T090245Z
SUMMARY:Co s Péťou?
DTSTART;TZID=Europe/Prague:20260314T160000
DTEND;TZID=Europe/Prague:20260314T172600
LOCATION:Kino Světozor
END:VEVENT
END:VCALENDAR
BEGIN:VCALENDAR
PRODID:-//eluceo/ical//2.0/EN
VERSION:2.0
CALSCALE:GREGORIAN
BEGIN:VEVENT
UID:9751f07b725875e372e91a81226b4d01
DTSTAMP:20260421T090245Z
SUMMARY:Co s Péťou?
DTSTART;TZID=Europe/Prague:20260314T160000
DTEND;TZID=Europe/Prague:20260314T172600
LOCATION:Kino Světozor
END:VEVENT
END:VCALENDAR
