BEGIN:VCALENDAR
PRODID:-//eluceo/ical//2.0/EN
VERSION:2.0
CALSCALE:GREGORIAN
BEGIN:VEVENT
UID:2889512d6f8ea4dbedb6848453cc6534
DTSTAMP:20260422T085414Z
SUMMARY:Poberta
DTSTART;TZID=Europe/Prague:20260313T173000
DTEND;TZID=Europe/Prague:20260313T192800
LOCATION:Bio Central
END:VEVENT
END:VCALENDAR
BEGIN:VCALENDAR
PRODID:-//eluceo/ical//2.0/EN
VERSION:2.0
CALSCALE:GREGORIAN
BEGIN:VEVENT
UID:4ca5234c04f684bbcf2b716fcf343d79
DTSTAMP:20260422T085414Z
SUMMARY:Poberta
DTSTART;TZID=Europe/Prague:20260313T173000
DTEND;TZID=Europe/Prague:20260313T192800
LOCATION:Bio Central
END:VEVENT
END:VCALENDAR
