BEGIN:VCALENDAR
PRODID:-//eluceo/ical//2.0/EN
VERSION:2.0
CALSCALE:GREGORIAN
BEGIN:VEVENT
UID:49d537edbf4c39f05312b58349d61ca8
DTSTAMP:20260425T195257Z
SUMMARY:Čaroděj z Kremlu
DTSTART;TZID=Europe/Prague:20260428T100000
DTEND;TZID=Europe/Prague:20260428T122500
LOCATION:Bio Central
END:VEVENT
END:VCALENDAR
BEGIN:VCALENDAR
PRODID:-//eluceo/ical//2.0/EN
VERSION:2.0
CALSCALE:GREGORIAN
BEGIN:VEVENT
UID:51eca1353e5cbf6b86ed4a74ab25f4d8
DTSTAMP:20260425T195257Z
SUMMARY:Čaroděj z Kremlu
DTSTART;TZID=Europe/Prague:20260428T100000
DTEND;TZID=Europe/Prague:20260428T122500
LOCATION:Bio Central
END:VEVENT
END:VCALENDAR
