BEGIN:VCALENDAR
PRODID:-//eluceo/ical//2.0/EN
VERSION:2.0
CALSCALE:GREGORIAN
BEGIN:VEVENT
UID:7af9de51514bf7874886f4a86cc11177
DTSTAMP:20260425T200405Z
SUMMARY:Ďábel nosí Pradu 2
DTSTART;TZID=Europe/Prague:20260429T203000
DTEND;TZID=Europe/Prague:20260429T223000
LOCATION:Kino Lucerna
END:VEVENT
END:VCALENDAR
BEGIN:VCALENDAR
PRODID:-//eluceo/ical//2.0/EN
VERSION:2.0
CALSCALE:GREGORIAN
BEGIN:VEVENT
UID:d1026df1b8b57b72a9fd4dd95de6f14e
DTSTAMP:20260425T200405Z
SUMMARY:Ďábel nosí Pradu 2
DTSTART;TZID=Europe/Prague:20260429T203000
DTEND;TZID=Europe/Prague:20260429T223000
LOCATION:Kino Lucerna
END:VEVENT
END:VCALENDAR
