BEGIN:VCALENDAR
PRODID:-//eluceo/ical//2.0/EN
VERSION:2.0
CALSCALE:GREGORIAN
BEGIN:VEVENT
UID:3754e10cf6ec80253d080bca7b8c9eba
DTSTAMP:20260425T200400Z
SUMMARY:Ďábel nosí Pradu 2
DTSTART;TZID=Europe/Prague:20260430T180000
DTEND;TZID=Europe/Prague:20260430T200000
LOCATION:Kino Lucerna
END:VEVENT
END:VCALENDAR
BEGIN:VCALENDAR
PRODID:-//eluceo/ical//2.0/EN
VERSION:2.0
CALSCALE:GREGORIAN
BEGIN:VEVENT
UID:b783277621a45b15a4500be8883856be
DTSTAMP:20260425T200400Z
SUMMARY:Ďábel nosí Pradu 2
DTSTART;TZID=Europe/Prague:20260430T180000
DTEND;TZID=Europe/Prague:20260430T200000
LOCATION:Kino Lucerna
END:VEVENT
END:VCALENDAR
