BEGIN:VCALENDAR
PRODID:-//eluceo/ical//2.0/EN
VERSION:2.0
CALSCALE:GREGORIAN
BEGIN:VEVENT
UID:83481044f597adfafdeb79c9f59d2b2a
DTSTAMP:20260425T200435Z
SUMMARY:Ďábel nosí Pradu 2
DTSTART;TZID=Europe/Prague:20260430T203000
DTEND;TZID=Europe/Prague:20260430T223000
LOCATION:Kino Světozor
END:VEVENT
END:VCALENDAR
BEGIN:VCALENDAR
PRODID:-//eluceo/ical//2.0/EN
VERSION:2.0
CALSCALE:GREGORIAN
BEGIN:VEVENT
UID:a303ef7da11634f74b6da6637d410493
DTSTAMP:20260425T200435Z
SUMMARY:Ďábel nosí Pradu 2
DTSTART;TZID=Europe/Prague:20260430T203000
DTEND;TZID=Europe/Prague:20260430T223000
LOCATION:Kino Světozor
END:VEVENT
END:VCALENDAR
