BEGIN:VCALENDAR
PRODID:-//eluceo/ical//2.0/EN
VERSION:2.0
CALSCALE:GREGORIAN
BEGIN:VEVENT
UID:fa31daf6cb59e73c36c587de41299e14
DTSTAMP:20260425T231038Z
SUMMARY:Na skok do divočiny
DTSTART;TZID=Europe/Prague:20260501T150000
DTEND;TZID=Europe/Prague:20260501T164500
LOCATION:Kino Aero
END:VEVENT
END:VCALENDAR
BEGIN:VCALENDAR
PRODID:-//eluceo/ical//2.0/EN
VERSION:2.0
CALSCALE:GREGORIAN
BEGIN:VEVENT
UID:f5663c0463073bd45ee238eb716435d1
DTSTAMP:20260425T231038Z
SUMMARY:Na skok do divočiny
DTSTART;TZID=Europe/Prague:20260501T150000
DTEND;TZID=Europe/Prague:20260501T164500
LOCATION:Kino Aero
END:VEVENT
END:VCALENDAR
