BEGIN:VCALENDAR
PRODID:-//eluceo/ical//2.0/EN
VERSION:2.0
CALSCALE:GREGORIAN
BEGIN:VEVENT
UID:030dc7aacfd4c04f1af6132e5a29d5ec
DTSTAMP:20260425T231514Z
SUMMARY:Ještě nejsem\, kým chci být
DTSTART;TZID=Europe/Prague:20260526T170000
DTEND;TZID=Europe/Prague:20260526T183100
LOCATION:Kino Přítomnost
END:VEVENT
END:VCALENDAR
BEGIN:VCALENDAR
PRODID:-//eluceo/ical//2.0/EN
VERSION:2.0
CALSCALE:GREGORIAN
BEGIN:VEVENT
UID:5215ca4344ce9fec4a28f12e03c4866f
DTSTAMP:20260425T231514Z
SUMMARY:Ještě nejsem\, kým chci být
DTSTART;TZID=Europe/Prague:20260526T170000
DTEND;TZID=Europe/Prague:20260526T183100
LOCATION:Kino Přítomnost
END:VEVENT
END:VCALENDAR
