BEGIN:VCALENDAR
PRODID:-//eluceo/ical//2.0/EN
VERSION:2.0
CALSCALE:GREGORIAN
BEGIN:VEVENT
UID:c139a6c70d6532347a5f42c440e90531
DTSTAMP:20260425T200436Z
SUMMARY:Ďábel nosí Pradu 2
DTSTART;TZID=Europe/Prague:20260429T173000
DTEND;TZID=Europe/Prague:20260429T193000
LOCATION:Bio Central
END:VEVENT
END:VCALENDAR
BEGIN:VCALENDAR
PRODID:-//eluceo/ical//2.0/EN
VERSION:2.0
CALSCALE:GREGORIAN
BEGIN:VEVENT
UID:d67f7498d63cec7e0c239c320528c7af
DTSTAMP:20260425T200436Z
SUMMARY:Ďábel nosí Pradu 2
DTSTART;TZID=Europe/Prague:20260429T173000
DTEND;TZID=Europe/Prague:20260429T193000
LOCATION:Bio Central
END:VEVENT
END:VCALENDAR
