BEGIN:VCALENDAR
PRODID:-//eluceo/ical//2.0/EN
VERSION:2.0
CALSCALE:GREGORIAN
BEGIN:VEVENT
UID:beef6acad0312f58b65436f19473c5aa
DTSTAMP:20260425T200436Z
SUMMARY:Ďábel nosí Pradu 2
DTSTART;TZID=Europe/Prague:20260430T200000
DTEND;TZID=Europe/Prague:20260430T220000
LOCATION:Bio Central
END:VEVENT
END:VCALENDAR
BEGIN:VCALENDAR
PRODID:-//eluceo/ical//2.0/EN
VERSION:2.0
CALSCALE:GREGORIAN
BEGIN:VEVENT
UID:22166a558e58c88949f9d129eee673dd
DTSTAMP:20260425T200436Z
SUMMARY:Ďábel nosí Pradu 2
DTSTART;TZID=Europe/Prague:20260430T200000
DTEND;TZID=Europe/Prague:20260430T220000
LOCATION:Bio Central
END:VEVENT
END:VCALENDAR
