BEGIN:VCALENDAR
PRODID:-//eluceo/ical//2.0/EN
VERSION:2.0
CALSCALE:GREGORIAN
BEGIN:VEVENT
UID:9cd3257b2fa013af6b06f22adec4b2eb
DTSTAMP:20260425T231038Z
SUMMARY:Na skok do divočiny
DTSTART;TZID=Europe/Prague:20260516T103000
DTEND;TZID=Europe/Prague:20260516T121500
LOCATION:Bio Central
END:VEVENT
END:VCALENDAR
BEGIN:VCALENDAR
PRODID:-//eluceo/ical//2.0/EN
VERSION:2.0
CALSCALE:GREGORIAN
BEGIN:VEVENT
UID:f6e14c64dd1b89464d72c8141594450a
DTSTAMP:20260425T231038Z
SUMMARY:Na skok do divočiny
DTSTART;TZID=Europe/Prague:20260516T103000
DTEND;TZID=Europe/Prague:20260516T121500
LOCATION:Bio Central
END:VEVENT
END:VCALENDAR
