BEGIN:VCALENDAR
PRODID:-//eluceo/ical//2.0/EN
VERSION:2.0
CALSCALE:GREGORIAN
BEGIN:VEVENT
UID:64b5dca024571e3383b2674688226ee6
DTSTAMP:20260425T195451Z
SUMMARY:Tajný agent
DTSTART;TZID=Europe/Prague:20260430T150000
DTEND;TZID=Europe/Prague:20260430T174100
LOCATION:Bio Oko
END:VEVENT
END:VCALENDAR
BEGIN:VCALENDAR
PRODID:-//eluceo/ical//2.0/EN
VERSION:2.0
CALSCALE:GREGORIAN
BEGIN:VEVENT
UID:da71ba3a0ade1852ba47d22606e46814
DTSTAMP:20260425T195451Z
SUMMARY:Tajný agent
DTSTART;TZID=Europe/Prague:20260430T150000
DTEND;TZID=Europe/Prague:20260430T174100
LOCATION:Bio Oko
END:VEVENT
END:VCALENDAR
