BEGIN:VCALENDAR
PRODID:-//eluceo/ical//2.0/EN
VERSION:2.0
CALSCALE:GREGORIAN
BEGIN:VEVENT
UID:5d179317e1f7a9b0e3804e5913e81a5b
DTSTAMP:20260425T200400Z
SUMMARY:Ďábel nosí Pradu 2
DTSTART;TZID=Europe/Prague:20260501T171500
DTEND;TZID=Europe/Prague:20260501T191500
LOCATION:Kino Přítomnost
END:VEVENT
END:VCALENDAR
BEGIN:VCALENDAR
PRODID:-//eluceo/ical//2.0/EN
VERSION:2.0
CALSCALE:GREGORIAN
BEGIN:VEVENT
UID:a714e5281aa92bd7d0bd201d5cdf18ee
DTSTAMP:20260425T200400Z
SUMMARY:Ďábel nosí Pradu 2
DTSTART;TZID=Europe/Prague:20260501T171500
DTEND;TZID=Europe/Prague:20260501T191500
LOCATION:Kino Přítomnost
END:VEVENT
END:VCALENDAR
