BEGIN:VCALENDAR
PRODID:-//eluceo/ical//2.0/EN
VERSION:2.0
CALSCALE:GREGORIAN
BEGIN:VEVENT
UID:38bf8d3ee16d7c1e431ce9268d7f87d5
DTSTAMP:20260421T084934Z
SUMMARY:Někdo to rád v Plzni
DTSTART;TZID=Europe/Prague:20260421T184500
DTEND;TZID=Europe/Prague:20260421T202500
LOCATION:Kino Lucerna
END:VEVENT
END:VCALENDAR
BEGIN:VCALENDAR
PRODID:-//eluceo/ical//2.0/EN
VERSION:2.0
CALSCALE:GREGORIAN
BEGIN:VEVENT
UID:0bc8d503253fd6f69ae3f98fbb97e3d7
DTSTAMP:20260421T084934Z
SUMMARY:Někdo to rád v Plzni
DTSTART;TZID=Europe/Prague:20260421T184500
DTEND;TZID=Europe/Prague:20260421T202500
LOCATION:Kino Lucerna
END:VEVENT
END:VCALENDAR
