BEGIN:VCALENDAR
PRODID:-//eluceo/ical//2.0/EN
VERSION:2.0
CALSCALE:GREGORIAN
BEGIN:VEVENT
UID:a1846affe605f7c6d9acfcdf6b169c1e
DTSTAMP:20260422T085414Z
SUMMARY:Drama
DTSTART;TZID=Europe/Prague:20260419T150000
DTEND;TZID=Europe/Prague:20260419T164600
LOCATION:Kino Lucerna
END:VEVENT
END:VCALENDAR
BEGIN:VCALENDAR
PRODID:-//eluceo/ical//2.0/EN
VERSION:2.0
CALSCALE:GREGORIAN
BEGIN:VEVENT
UID:3a1658bb86a8e0e0fab4feb999a09b66
DTSTAMP:20260422T085414Z
SUMMARY:Drama
DTSTART;TZID=Europe/Prague:20260419T150000
DTEND;TZID=Europe/Prague:20260419T164600
LOCATION:Kino Lucerna
END:VEVENT
END:VCALENDAR
