BEGIN:VCALENDAR
PRODID:-//eluceo/ical//2.0/EN
VERSION:2.0
CALSCALE:GREGORIAN
BEGIN:VEVENT
UID:a86a740618f333a67bebc7da121dab26
DTSTAMP:20260422T085413Z
SUMMARY:Drama
DTSTART;TZID=Europe/Prague:20260419T204500
DTEND;TZID=Europe/Prague:20260419T223100
LOCATION:Kino Lucerna
END:VEVENT
END:VCALENDAR
BEGIN:VCALENDAR
PRODID:-//eluceo/ical//2.0/EN
VERSION:2.0
CALSCALE:GREGORIAN
BEGIN:VEVENT
UID:86517d9069994a1509d62bd4d1bfccd8
DTSTAMP:20260422T085413Z
SUMMARY:Drama
DTSTART;TZID=Europe/Prague:20260419T204500
DTEND;TZID=Europe/Prague:20260419T223100
LOCATION:Kino Lucerna
END:VEVENT
END:VCALENDAR
