BEGIN:VCALENDAR
PRODID:-//eluceo/ical//2.0/EN
VERSION:2.0
CALSCALE:GREGORIAN
BEGIN:VEVENT
UID:70194c9c87202a63e05530e1c4caed6b
DTSTAMP:20260422T091807Z
SUMMARY:Drama
DTSTART;TZID=Europe/Prague:20260417T200000
DTEND;TZID=Europe/Prague:20260417T214600
LOCATION:Univerzitní kino Scala
END:VEVENT
END:VCALENDAR
BEGIN:VCALENDAR
PRODID:-//eluceo/ical//2.0/EN
VERSION:2.0
CALSCALE:GREGORIAN
BEGIN:VEVENT
UID:fd5320f480471b855d4eb2b98c6bdfba
DTSTAMP:20260422T091807Z
SUMMARY:Drama
DTSTART;TZID=Europe/Prague:20260417T200000
DTEND;TZID=Europe/Prague:20260417T214600
LOCATION:Univerzitní kino Scala
END:VEVENT
END:VCALENDAR
