BEGIN:VCALENDAR
PRODID:-//eluceo/ical//2.0/EN
VERSION:2.0
CALSCALE:GREGORIAN
BEGIN:VEVENT
UID:c9dc0f1b06fb9f09708ac664a35d7451
DTSTAMP:20260421T090552Z
SUMMARY:Super Mario galaktický film
DTSTART;TZID=Europe/Prague:20260418T151500
DTEND;TZID=Europe/Prague:20260418T165000
LOCATION:Univerzitní kino Scala
END:VEVENT
END:VCALENDAR
BEGIN:VCALENDAR
PRODID:-//eluceo/ical//2.0/EN
VERSION:2.0
CALSCALE:GREGORIAN
BEGIN:VEVENT
UID:ba938279f642068356b20979619a458b
DTSTAMP:20260421T090552Z
SUMMARY:Super Mario galaktický film
DTSTART;TZID=Europe/Prague:20260418T151500
DTEND;TZID=Europe/Prague:20260418T165000
LOCATION:Univerzitní kino Scala
END:VEVENT
END:VCALENDAR
