BEGIN:VCALENDAR
PRODID:-//eluceo/ical//2.0/EN
VERSION:2.0
CALSCALE:GREGORIAN
BEGIN:VEVENT
UID:3f4b3371439ce7d46a2d8ea6169cc195
DTSTAMP:20260421T223600Z
SUMMARY:Šampión
DTSTART;TZID=Europe/Prague:20260529T140000
DTEND;TZID=Europe/Prague:20260529T153000
LOCATION:Bio Central
END:VEVENT
END:VCALENDAR
BEGIN:VCALENDAR
PRODID:-//eluceo/ical//2.0/EN
VERSION:2.0
CALSCALE:GREGORIAN
BEGIN:VEVENT
UID:7bcc226a3896edcc283e4df7291f44c6
DTSTAMP:20260421T223600Z
SUMMARY:Šampión
DTSTART;TZID=Europe/Prague:20260529T140000
DTEND;TZID=Europe/Prague:20260529T153000
LOCATION:Bio Central
END:VEVENT
END:VCALENDAR
