BEGIN:VCALENDAR
PRODID:-//eluceo/ical//2.0/EN
VERSION:2.0
CALSCALE:GREGORIAN
BEGIN:VEVENT
UID:0bd2e4f5621f45f67f7424622d8515dd
DTSTAMP:20260425T195855Z
SUMMARY:Hlas Hind Radžab
DTSTART;TZID=Europe/Prague:20260515T143000
DTEND;TZID=Europe/Prague:20260515T155900
LOCATION:Bio Central
END:VEVENT
END:VCALENDAR
BEGIN:VCALENDAR
PRODID:-//eluceo/ical//2.0/EN
VERSION:2.0
CALSCALE:GREGORIAN
BEGIN:VEVENT
UID:d8edd5d9b4d2e30b84cce03608ed7133
DTSTAMP:20260425T195855Z
SUMMARY:Hlas Hind Radžab
DTSTART;TZID=Europe/Prague:20260515T143000
DTEND;TZID=Europe/Prague:20260515T155900
LOCATION:Bio Central
END:VEVENT
END:VCALENDAR
