BEGIN:VCALENDAR
PRODID:-//eluceo/ical//2.0/EN
VERSION:2.0
CALSCALE:GREGORIAN
BEGIN:VEVENT
UID:d26f842e7b5d1b4ac783284e0e3fda07
DTSTAMP:20260422T085415Z
SUMMARY:Drama
DTSTART;TZID=Europe/Prague:20260421T203000
DTEND;TZID=Europe/Prague:20260421T221600
LOCATION:Bio Central
END:VEVENT
END:VCALENDAR
BEGIN:VCALENDAR
PRODID:-//eluceo/ical//2.0/EN
VERSION:2.0
CALSCALE:GREGORIAN
BEGIN:VEVENT
UID:14aaf79ed370c23518563396f6f309d5
DTSTAMP:20260422T085415Z
SUMMARY:Drama
DTSTART;TZID=Europe/Prague:20260421T203000
DTEND;TZID=Europe/Prague:20260421T221600
LOCATION:Bio Central
END:VEVENT
END:VCALENDAR
