BEGIN:VCALENDAR
PRODID:-//eluceo/ical//2.0/EN
VERSION:2.0
CALSCALE:GREGORIAN
BEGIN:VEVENT
UID:91bf462b91be8b7101303720e940cb77
DTSTAMP:20260425T200146Z
SUMMARY:Hamnet
DTSTART;TZID=Europe/Prague:20260501T150000
DTEND;TZID=Europe/Prague:20260501T170500
LOCATION:Kino Světozor
END:VEVENT
END:VCALENDAR
BEGIN:VCALENDAR
PRODID:-//eluceo/ical//2.0/EN
VERSION:2.0
CALSCALE:GREGORIAN
BEGIN:VEVENT
UID:6a3e9f843e94d3e48762045cdcfad151
DTSTAMP:20260425T200146Z
SUMMARY:Hamnet
DTSTART;TZID=Europe/Prague:20260501T150000
DTEND;TZID=Europe/Prague:20260501T170500
LOCATION:Kino Světozor
END:VEVENT
END:VCALENDAR
