BEGIN:VCALENDAR
PRODID:-//eluceo/ical//2.0/EN
VERSION:2.0
CALSCALE:GREGORIAN
BEGIN:VEVENT
UID:0b8dd2db2eecd402173285a1ad0f33df
DTSTAMP:20260422T085415Z
SUMMARY:Drama
DTSTART;TZID=Europe/Prague:20260514T150000
DTEND;TZID=Europe/Prague:20260514T164600
LOCATION:Kino Světozor
END:VEVENT
END:VCALENDAR
BEGIN:VCALENDAR
PRODID:-//eluceo/ical//2.0/EN
VERSION:2.0
CALSCALE:GREGORIAN
BEGIN:VEVENT
UID:f93e402480b4a560d18ebffacb554cb2
DTSTAMP:20260422T085415Z
SUMMARY:Drama
DTSTART;TZID=Europe/Prague:20260514T150000
DTEND;TZID=Europe/Prague:20260514T164600
LOCATION:Kino Světozor
END:VEVENT
END:VCALENDAR
