BEGIN:VCALENDAR
PRODID:-//eluceo/ical//2.0/EN
VERSION:2.0
CALSCALE:GREGORIAN
BEGIN:VEVENT
UID:4d190c5aeb3c100bdd867c411e2f652a
DTSTAMP:20260421T223747Z
SUMMARY:Šampión
DTSTART;TZID=Europe/Prague:20260522T150000
DTEND;TZID=Europe/Prague:20260522T163000
LOCATION:Kino Světozor
END:VEVENT
END:VCALENDAR
BEGIN:VCALENDAR
PRODID:-//eluceo/ical//2.0/EN
VERSION:2.0
CALSCALE:GREGORIAN
BEGIN:VEVENT
UID:564acb9549ecf65e2c33764f20857d96
DTSTAMP:20260421T223747Z
SUMMARY:Šampión
DTSTART;TZID=Europe/Prague:20260522T150000
DTEND;TZID=Europe/Prague:20260522T163000
LOCATION:Kino Světozor
END:VEVENT
END:VCALENDAR
