BEGIN:VCALENDAR
PRODID:-//eluceo/ical//2.0/EN
VERSION:2.0
CALSCALE:GREGORIAN
BEGIN:VEVENT
UID:7b32ae2492070ba154496f10f185cda9
DTSTAMP:20260425T195839Z
SUMMARY:Ďábel nosí Pradu 2
DTSTART;TZID=Europe/Prague:20260529T150000
DTEND;TZID=Europe/Prague:20260529T170000
LOCATION:Kino Světozor
END:VEVENT
END:VCALENDAR
BEGIN:VCALENDAR
PRODID:-//eluceo/ical//2.0/EN
VERSION:2.0
CALSCALE:GREGORIAN
BEGIN:VEVENT
UID:3dc4a4f9a3b1401956f002966dc26a1d
DTSTAMP:20260425T195839Z
SUMMARY:Ďábel nosí Pradu 2
DTSTART;TZID=Europe/Prague:20260529T150000
DTEND;TZID=Europe/Prague:20260529T170000
LOCATION:Kino Světozor
END:VEVENT
END:VCALENDAR
