BEGIN:VCALENDAR
PRODID:-//eluceo/ical//2.0/EN
VERSION:2.0
CALSCALE:GREGORIAN
BEGIN:VEVENT
UID:d9b045346d2cebd205f3eea36ee3b6e9
DTSTAMP:20260425T195936Z
SUMMARY:Ďábel nosí Pradu 2
DTSTART;TZID=Europe/Prague:20260501T174500
DTEND;TZID=Europe/Prague:20260501T194500
LOCATION:Kino Světozor
END:VEVENT
END:VCALENDAR
BEGIN:VCALENDAR
PRODID:-//eluceo/ical//2.0/EN
VERSION:2.0
CALSCALE:GREGORIAN
BEGIN:VEVENT
UID:5318ed0b0947f966dbba5e260eccaf41
DTSTAMP:20260425T195936Z
SUMMARY:Ďábel nosí Pradu 2
DTSTART;TZID=Europe/Prague:20260501T174500
DTEND;TZID=Europe/Prague:20260501T194500
LOCATION:Kino Světozor
END:VEVENT
END:VCALENDAR
