BEGIN:VCALENDAR
PRODID:-//eluceo/ical//2.0/EN
VERSION:2.0
CALSCALE:GREGORIAN
BEGIN:VEVENT
UID:ea7c33a5feedd3cc598ef04bb73b1d6c
DTSTAMP:20260425T200125Z
SUMMARY:Ďábel nosí Pradu 2
DTSTART;TZID=Europe/Prague:20260503T180000
DTEND;TZID=Europe/Prague:20260503T200000
LOCATION:Kino Světozor
END:VEVENT
END:VCALENDAR
BEGIN:VCALENDAR
PRODID:-//eluceo/ical//2.0/EN
VERSION:2.0
CALSCALE:GREGORIAN
BEGIN:VEVENT
UID:03027661801a09a6f03559d7eceb5368
DTSTAMP:20260425T200125Z
SUMMARY:Ďábel nosí Pradu 2
DTSTART;TZID=Europe/Prague:20260503T180000
DTEND;TZID=Europe/Prague:20260503T200000
LOCATION:Kino Světozor
END:VEVENT
END:VCALENDAR
