BEGIN:VCALENDAR
PRODID:-//eluceo/ical//2.0/EN
VERSION:2.0
CALSCALE:GREGORIAN
BEGIN:VEVENT
UID:48833e4676a82734c1bdcb6b9c8a5c08
DTSTAMP:20260425T200335Z
SUMMARY:Ďábel nosí Pradu 2
DTSTART;TZID=Europe/Prague:20260504T180000
DTEND;TZID=Europe/Prague:20260504T200000
LOCATION:Kino Světozor
END:VEVENT
END:VCALENDAR
BEGIN:VCALENDAR
PRODID:-//eluceo/ical//2.0/EN
VERSION:2.0
CALSCALE:GREGORIAN
BEGIN:VEVENT
UID:7a8944ae9644f5d63d29dcf70dd0699c
DTSTAMP:20260425T200335Z
SUMMARY:Ďábel nosí Pradu 2
DTSTART;TZID=Europe/Prague:20260504T180000
DTEND;TZID=Europe/Prague:20260504T200000
LOCATION:Kino Světozor
END:VEVENT
END:VCALENDAR
