BEGIN:VCALENDAR
PRODID:-//eluceo/ical//2.0/EN
VERSION:2.0
CALSCALE:GREGORIAN
BEGIN:VEVENT
UID:b359ba15d19389158a4f1e055207ff90
DTSTAMP:20260425T200401Z
SUMMARY:Ďábel nosí Pradu 2
DTSTART;TZID=Europe/Prague:20260505T180000
DTEND;TZID=Europe/Prague:20260505T200000
LOCATION:Kino Světozor
END:VEVENT
END:VCALENDAR
BEGIN:VCALENDAR
PRODID:-//eluceo/ical//2.0/EN
VERSION:2.0
CALSCALE:GREGORIAN
BEGIN:VEVENT
UID:4193268f14c86a3d34649b8246885a1a
DTSTAMP:20260425T200401Z
SUMMARY:Ďábel nosí Pradu 2
DTSTART;TZID=Europe/Prague:20260505T180000
DTEND;TZID=Europe/Prague:20260505T200000
LOCATION:Kino Světozor
END:VEVENT
END:VCALENDAR
