BEGIN:VCALENDAR
PRODID:-//eluceo/ical//2.0/EN
VERSION:2.0
CALSCALE:GREGORIAN
BEGIN:VEVENT
UID:d8078ce4a0d5cb919d28208033951811
DTSTAMP:20260425T195925Z
SUMMARY:Ďábel nosí Pradu 2
DTSTART;TZID=Europe/Prague:20260505T203000
DTEND;TZID=Europe/Prague:20260505T223000
LOCATION:Kino Světozor
END:VEVENT
END:VCALENDAR
BEGIN:VCALENDAR
PRODID:-//eluceo/ical//2.0/EN
VERSION:2.0
CALSCALE:GREGORIAN
BEGIN:VEVENT
UID:a9d47a74b63aec1dc87e4d7cbf12b3b1
DTSTAMP:20260425T195925Z
SUMMARY:Ďábel nosí Pradu 2
DTSTART;TZID=Europe/Prague:20260505T203000
DTEND;TZID=Europe/Prague:20260505T223000
LOCATION:Kino Světozor
END:VEVENT
END:VCALENDAR
