BEGIN:VCALENDAR
PRODID:-//eluceo/ical//2.0/EN
VERSION:2.0
CALSCALE:GREGORIAN
BEGIN:VEVENT
UID:ec30603d7fc543ba73d3c8de27531624
DTSTAMP:20260425T195839Z
SUMMARY:Ďábel nosí Pradu 2
DTSTART;TZID=Europe/Prague:20260506T173000
DTEND;TZID=Europe/Prague:20260506T193000
LOCATION:Kino Světozor
END:VEVENT
END:VCALENDAR
BEGIN:VCALENDAR
PRODID:-//eluceo/ical//2.0/EN
VERSION:2.0
CALSCALE:GREGORIAN
BEGIN:VEVENT
UID:7f3ebedc842d1d8a5f3dfb896c8987e5
DTSTAMP:20260425T195839Z
SUMMARY:Ďábel nosí Pradu 2
DTSTART;TZID=Europe/Prague:20260506T173000
DTEND;TZID=Europe/Prague:20260506T193000
LOCATION:Kino Světozor
END:VEVENT
END:VCALENDAR
