BEGIN:VCALENDAR
PRODID:-//eluceo/ical//2.0/EN
VERSION:2.0
CALSCALE:GREGORIAN
BEGIN:VEVENT
UID:66c75af9a616c9a9e0927ce54e8517d8
DTSTAMP:20260425T174541Z
SUMMARY:Šťastni spolu
DTSTART;TZID=Europe/Prague:20260428T180000
DTEND;TZID=Europe/Prague:20260428T193600
LOCATION:Bio Oko
END:VEVENT
END:VCALENDAR
BEGIN:VCALENDAR
PRODID:-//eluceo/ical//2.0/EN
VERSION:2.0
CALSCALE:GREGORIAN
BEGIN:VEVENT
UID:23ca9c3adb63c4cc57069700554ea705
DTSTAMP:20260425T174541Z
SUMMARY:Šťastni spolu
DTSTART;TZID=Europe/Prague:20260428T180000
DTEND;TZID=Europe/Prague:20260428T193600
LOCATION:Bio Oko
END:VEVENT
END:VCALENDAR
