BEGIN:VCALENDAR
PRODID:-//eluceo/ical//2.0/EN
VERSION:2.0
CALSCALE:GREGORIAN
BEGIN:VEVENT
UID:b79488a52c8b3880a5b3cb579d5d76b7
DTSTAMP:20260425T195344Z
SUMMARY:Stvořeni pro lásku
DTSTART;TZID=Europe/Prague:20260505T180000
DTEND;TZID=Europe/Prague:20260505T193800
LOCATION:Bio Oko
END:VEVENT
END:VCALENDAR
BEGIN:VCALENDAR
PRODID:-//eluceo/ical//2.0/EN
VERSION:2.0
CALSCALE:GREGORIAN
BEGIN:VEVENT
UID:cfe94aa2de090c2424aa91026bfb0640
DTSTAMP:20260425T195344Z
SUMMARY:Stvořeni pro lásku
DTSTART;TZID=Europe/Prague:20260505T180000
DTEND;TZID=Europe/Prague:20260505T193800
LOCATION:Bio Oko
END:VEVENT
END:VCALENDAR
