BEGIN:VCALENDAR
PRODID:-//eluceo/ical//2.0/EN
VERSION:2.0
CALSCALE:GREGORIAN
BEGIN:VEVENT
UID:62b4b4a8718e6a327fb1150a08d6260a
DTSTAMP:20260421T224019Z
SUMMARY:Šampión
DTSTART;TZID=Europe/Prague:20260427T151500
DTEND;TZID=Europe/Prague:20260427T164500
LOCATION:Kino Lucerna
END:VEVENT
END:VCALENDAR
BEGIN:VCALENDAR
PRODID:-//eluceo/ical//2.0/EN
VERSION:2.0
CALSCALE:GREGORIAN
BEGIN:VEVENT
UID:d4ca715c35f233a33d79fd4c16edb337
DTSTAMP:20260421T224019Z
SUMMARY:Šampión
DTSTART;TZID=Europe/Prague:20260427T151500
DTEND;TZID=Europe/Prague:20260427T164500
LOCATION:Kino Lucerna
END:VEVENT
END:VCALENDAR
