BEGIN:VCALENDAR
PRODID:-//eluceo/ical//2.0/EN
VERSION:2.0
CALSCALE:GREGORIAN
BEGIN:VEVENT
UID:d4385dedaff9ff0ec679d4b0eae5872e
DTSTAMP:20260425T195736Z
SUMMARY:Bouřlivé výšiny
DTSTART;TZID=Europe/Prague:20260427T174500
DTEND;TZID=Europe/Prague:20260427T200100
LOCATION:Kino Světozor
END:VEVENT
END:VCALENDAR
BEGIN:VCALENDAR
PRODID:-//eluceo/ical//2.0/EN
VERSION:2.0
CALSCALE:GREGORIAN
BEGIN:VEVENT
UID:525459a07a3c825a297d98c88bbe015a
DTSTAMP:20260425T195736Z
SUMMARY:Bouřlivé výšiny
DTSTART;TZID=Europe/Prague:20260427T174500
DTEND;TZID=Europe/Prague:20260427T200100
LOCATION:Kino Světozor
END:VEVENT
END:VCALENDAR
