BEGIN:VCALENDAR
PRODID:-//eluceo/ical//2.0/EN
VERSION:2.0
CALSCALE:GREGORIAN
BEGIN:VEVENT
UID:62056eede4249f1fb066b59be5a41d42
DTSTAMP:20260425T195113Z
SUMMARY:Bouřlivé výšiny
DTSTART;TZID=Europe/Prague:20260426T173000
DTEND;TZID=Europe/Prague:20260426T194600
LOCATION:Kino Světozor
END:VEVENT
END:VCALENDAR
BEGIN:VCALENDAR
PRODID:-//eluceo/ical//2.0/EN
VERSION:2.0
CALSCALE:GREGORIAN
BEGIN:VEVENT
UID:8ac25e99c6de8d00b1b3feb69ce9ffb6
DTSTAMP:20260425T195113Z
SUMMARY:Bouřlivé výšiny
DTSTART;TZID=Europe/Prague:20260426T173000
DTEND;TZID=Europe/Prague:20260426T194600
LOCATION:Kino Světozor
END:VEVENT
END:VCALENDAR
