BEGIN:VCALENDAR
PRODID:-//eluceo/ical//2.0/EN
VERSION:2.0
CALSCALE:GREGORIAN
BEGIN:VEVENT
UID:06a76b01efd0e087725bf00dd39420e6
DTSTAMP:20260421T224111Z
SUMMARY:Šampión
DTSTART;TZID=Europe/Prague:20260505T150000
DTEND;TZID=Europe/Prague:20260505T163000
LOCATION:Kino Aero
END:VEVENT
END:VCALENDAR
BEGIN:VCALENDAR
PRODID:-//eluceo/ical//2.0/EN
VERSION:2.0
CALSCALE:GREGORIAN
BEGIN:VEVENT
UID:d87cec064f1f35d9be933cf8f15177f7
DTSTAMP:20260421T224111Z
SUMMARY:Šampión
DTSTART;TZID=Europe/Prague:20260505T150000
DTEND;TZID=Europe/Prague:20260505T163000
LOCATION:Kino Aero
END:VEVENT
END:VCALENDAR
