BEGIN:VCALENDAR
PRODID:-//eluceo/ical//2.0/EN
VERSION:2.0
CALSCALE:GREGORIAN
BEGIN:VEVENT
UID:7787172c9d5d9d110821e39694f44802
DTSTAMP:20260421T164047Z
SUMMARY:Kill Bill: The Whole Bloody Affair
DTSTART;TZID=Europe/Prague:20260614T170000
DTEND;TZID=Europe/Prague:20260614T213500
LOCATION:Kino Přítomnost
END:VEVENT
END:VCALENDAR
BEGIN:VCALENDAR
PRODID:-//eluceo/ical//2.0/EN
VERSION:2.0
CALSCALE:GREGORIAN
BEGIN:VEVENT
UID:b685a86dde73a22510663e371f2ec6e9
DTSTAMP:20260421T164047Z
SUMMARY:Kill Bill: The Whole Bloody Affair
DTSTART;TZID=Europe/Prague:20260614T170000
DTEND;TZID=Europe/Prague:20260614T213500
LOCATION:Kino Přítomnost
END:VEVENT
END:VCALENDAR
