BEGIN:VCALENDAR
PRODID:-//eluceo/ical//2.0/EN
VERSION:2.0
CALSCALE:GREGORIAN
BEGIN:VEVENT
UID:80f7219a05d9d8233acc080db8895177
DTSTAMP:20260421T223600Z
SUMMARY:Šampión
DTSTART;TZID=Europe/Prague:20260520T150000
DTEND;TZID=Europe/Prague:20260520T163000
LOCATION:Kino Lucerna
END:VEVENT
END:VCALENDAR
BEGIN:VCALENDAR
PRODID:-//eluceo/ical//2.0/EN
VERSION:2.0
CALSCALE:GREGORIAN
BEGIN:VEVENT
UID:ec57f253056c098c616e7a97ff000fec
DTSTAMP:20260421T223600Z
SUMMARY:Šampión
DTSTART;TZID=Europe/Prague:20260520T150000
DTEND;TZID=Europe/Prague:20260520T163000
LOCATION:Kino Lucerna
END:VEVENT
END:VCALENDAR
