BEGIN:VCALENDAR
PRODID:-//eluceo/ical//2.0/EN
VERSION:2.0
CALSCALE:GREGORIAN
BEGIN:VEVENT
UID:a5bdc64edac6afe6404de34cf8d9a7f4
DTSTAMP:20260425T200038Z
SUMMARY:Ďábel nosí Pradu 2
DTSTART;TZID=Europe/Prague:20260501T180000
DTEND;TZID=Europe/Prague:20260501T200000
LOCATION:Kino Lucerna
END:VEVENT
END:VCALENDAR
BEGIN:VCALENDAR
PRODID:-//eluceo/ical//2.0/EN
VERSION:2.0
CALSCALE:GREGORIAN
BEGIN:VEVENT
UID:52a917b7a6119846603c503d589c7259
DTSTAMP:20260425T200038Z
SUMMARY:Ďábel nosí Pradu 2
DTSTART;TZID=Europe/Prague:20260501T180000
DTEND;TZID=Europe/Prague:20260501T200000
LOCATION:Kino Lucerna
END:VEVENT
END:VCALENDAR
